BEGIN:VCALENDAR
VERSION:2.0
PRODID:-//CiviCRM//NONSGML CiviEvent iCal//EN
X-WR-TIMEZONE:America/Toronto
METHOD:PUBLISH
BEGIN:VTIMEZONE
TZID:America/Toronto
BEGIN:DAYLIGHT
TZOFFSETFROM:-0400
TZOFFSETTO:-0400
TZNAME:EDT
DTSTART:20260516T130000
END:DAYLIGHT
END:VTIMEZONE
BEGIN:VEVENT
UID:CiviCRM_EventID_1200_c8c9d8d6f117966e2008cfef8f8c2ee9@girlsinscience.ca
SUMMARY:CAGIS Virtual - Build Your Own Flashlight - Ages 1
 3 to 17
X-ALT-DESC;FMTTYPE=text/html:<!DOCTYPE HTML PUBLIC
  "-//W3C//DTD HTML 3.2//EN"><html><body>Ready\, se
 t\, ILLUMINATE!\n \n Did you know that you can mak
 e a flashlight with less than 10 items?? Step into
  the shoes of an electrician and make your own daz
 zling design! Explore the skilled trade that keeps
  the lights on with electrician\, Stephanie!</body
 ></html>
DESCRIPTION:Ready\, set\, ILLUMINATE!\n \n Did you know that y
 ou can make a flashlight with less than 10 items??
  Step into the shoes of an electrician and make yo
 ur own dazzling design! Explore the skilled trade 
 that keeps the lights on with electrician\, Stepha
 nie!
CATEGORIES:CAGIS Virtual event - Paid for non-members
CALSCALE:GREGORIAN
DTSTAMP;TZID=America/Toronto:20260516T130000
DTSTART;TZID=America/Toronto:20260516T130000
DTEND;TZID=America/Toronto:20260516T140000
LOCATION:Online Event\, \n Canada\n 
URL:https://girlsinscience.ca/civicrm/event/info/?reset=1&id=1200
END:VEVENT
END:VCALENDAR
