BEGIN:VCALENDAR
VERSION:2.0
PRODID:-//CiviCRM//NONSGML CiviEvent iCal//EN
X-WR-TIMEZONE:America/Toronto
METHOD:PUBLISH
BEGIN:VTIMEZONE
TZID:America/Toronto
BEGIN:DAYLIGHT
TZOFFSETFROM:-0400
TZOFFSETTO:-0400
TZNAME:EDT
DTSTART:20260509T110000
END:DAYLIGHT
END:VTIMEZONE
BEGIN:VEVENT
UID:CiviCRM_EventID_1197_c8c9d8d6f117966e2008cfef8f8c2ee9@girlsinscience.ca
SUMMARY:CAGIS Virtual - The Science of Earthquakes - Ages 
 7 to 12
X-ALT-DESC;FMTTYPE=text/html:<!DOCTYPE HTML PUBLIC
  "-//W3C//DTD HTML 3.2//EN"><html><body>Do you kno
 w what seismology is? It’s the science of EARTHQUA
 KES!\n \n More details coming soon!</body></html>
DESCRIPTION:Do you know what seismology is? It’s the science o
 f EARTHQUAKES!\n \n More details coming soon!
CATEGORIES:CAGIS Virtual event - Paid for non-members
CALSCALE:GREGORIAN
DTSTAMP;TZID=America/Toronto:20260509T110000
DTSTART;TZID=America/Toronto:20260509T110000
DTEND;TZID=America/Toronto:20260509T120000
LOCATION:Online Event\, \n Canada\n 
URL:https://girlsinscience.ca/civicrm/event/info/?reset=1&id=1197
END:VEVENT
END:VCALENDAR
