BEGIN:VCALENDAR
VERSION:2.0
PRODID:-//CiviCRM//NONSGML CiviEvent iCal//EN
X-WR-TIMEZONE:America/Toronto
METHOD:PUBLISH
BEGIN:VTIMEZONE
TZID:America/Toronto
BEGIN:DAYLIGHT
TZOFFSETFROM:-0400
TZOFFSETTO:-0400
TZNAME:EDT
DTSTART:20260502T130000
END:DAYLIGHT
END:VTIMEZONE
BEGIN:VEVENT
UID:CiviCRM_EventID_1196_c8c9d8d6f117966e2008cfef8f8c2ee9@girlsinscience.ca
SUMMARY:CAGIS Virtual - Quark Quest - Ages 13 to 17
X-ALT-DESC;FMTTYPE=text/html:<!DOCTYPE HTML PUBLIC
  "-//W3C//DTD HTML 3.2//EN"><html><body>Do you kno
 w what a quark is? Do you want to find out??\n \n 
 Join us to explore quarks\, the building blocks of
  protons and neutrons! We will be making our own q
 uarks with grapes (which are over 10 MILLION times
  larger than quarks) and exploring radioactive dec
 ay with nuclear physicist\, Dr. Gwen!</body></html
 >
DESCRIPTION:Do you know what a quark is? Do you want to find o
 ut??\n \n Join us to explore quarks\, the building
  blocks of protons and neutrons! We will be making
  our own quarks with grapes (which are over 10 MIL
 LION times larger than quarks) and exploring radio
 active decay with nuclear physicist\, Dr. Gwen!
CATEGORIES:CAGIS Virtual event - Paid for non-members
CALSCALE:GREGORIAN
DTSTAMP;TZID=America/Toronto:20260502T130000
DTSTART;TZID=America/Toronto:20260502T130000
DTEND;TZID=America/Toronto:20260502T140000
LOCATION:Online Event\, \n Canada\n 
URL:https://girlsinscience.ca/civicrm/event/info/?reset=1&id=1196
END:VEVENT
END:VCALENDAR
